BEGIN:VCALENDAR
VERSION:2.0
PRODID:-//CPIQ - ECPv6.15.20//NONSGML v1.0//EN
CALSCALE:GREGORIAN
METHOD:PUBLISH
X-WR-CALNAME:CPIQ
X-ORIGINAL-URL:https://conseil-cpiq.qc.ca
X-WR-CALDESC:Évènements pour CPIQ
REFRESH-INTERVAL;VALUE=DURATION:PT1H
X-Robots-Tag:noindex
X-PUBLISHED-TTL:PT1H
BEGIN:VTIMEZONE
TZID:America/Toronto
BEGIN:DAYLIGHT
TZOFFSETFROM:-0500
TZOFFSETTO:-0400
TZNAME:EDT
DTSTART:20200308T070000
END:DAYLIGHT
BEGIN:STANDARD
TZOFFSETFROM:-0400
TZOFFSETTO:-0500
TZNAME:EST
DTSTART:20201101T060000
END:STANDARD
BEGIN:DAYLIGHT
TZOFFSETFROM:-0500
TZOFFSETTO:-0400
TZNAME:EDT
DTSTART:20210314T070000
END:DAYLIGHT
BEGIN:STANDARD
TZOFFSETFROM:-0400
TZOFFSETTO:-0500
TZNAME:EST
DTSTART:20211107T060000
END:STANDARD
BEGIN:DAYLIGHT
TZOFFSETFROM:-0500
TZOFFSETTO:-0400
TZNAME:EDT
DTSTART:20220313T070000
END:DAYLIGHT
BEGIN:STANDARD
TZOFFSETFROM:-0400
TZOFFSETTO:-0500
TZNAME:EST
DTSTART:20221106T060000
END:STANDARD
END:VTIMEZONE
BEGIN:VEVENT
DTSTART;VALUE=DATE:20211202
DTEND;VALUE=DATE:20211204
DTSTAMP:20260425T112531
CREATED:20210603T191902Z
LAST-MODIFIED:20210603T191902Z
UID:5779-1638403200-1638575999@conseil-cpiq.qc.ca
SUMMARY:33e congrès annuel de L'Association québécoise des enseignantes et des enseignants du primaire (AQEP)
DESCRIPTION:À VOTRE AGENDA! \nL’Association québécoise des enseignantes et des enseignants du primaire (AQEP) vous invite à son 33e congrès annuel!
URL:https://conseil-cpiq.qc.ca/calendrier/33e-congres-annuel-de-lassociation-quebecoise-des-enseignantes-et-des-enseignants-du-primaire-aqep/
LOCATION:Centre des congrès de Québec\, 1000\, boul. René-Lévesque Est\, Québec\, Québec\, G1R 2B5\, Canada
END:VEVENT
END:VCALENDAR